Workbook
Name _ftn1: Introduccion!$A$108
Name _ftn2: Introduccion!$A$110
Name _ftn3: Introduccion!$A$111
Name _ftnref1: Introduccion!$A$14
Name area: Listas!$J$2:$J$5
Name D: Listas!#REF!
Name D: Listas!#REF!
Name D: Listas!#REF!
Name edad: Listas!$H$2:$H$5
Name evaluaciones: Listas!#REF!
Name evaluaciones: Listas!#REF!
Name evaluaciones: Listas!#REF!
Name institucion: [1]Lista!$B$2:$B$14
Name Lista1: Listas!#REF!
Name Lista1: Listas!#REF!
Name Lista1: Listas!#REF!
Name Lista2: Listas!#REF!
Name Lista2: Listas!#REF!
Name Lista2: Listas!#REF!
Name modalidad: Listas!#REF!
Name modalidad: Listas!#REF!
Name modalidad: Listas!#REF!
Name NIVEL: Listas!#REF!
Name NIVEL: Listas!#REF!
Name NIVEL: Listas!#REF!
Name Niveles: Listas!$C$3:$C$6
Name OLE_LINK4: Introduccion!$A$1
Name proyecto: Listas!#REF!
Name proyecto: Listas!#REF!
Name proyecto: Listas!#REF!
Name red: Listas!#REF!
Name red: Listas!#REF!
Name red: Listas!#REF!
Name redes: Listas!$D$2:$D$10
Name sexo: Listas!$F$2:$F$3
Name SINO: Listas!$B$2:$B$3
Name socio: Listas!#REF!
Name socio: Listas!#REF!
Name socio: Listas!#REF!

Sheet Listas
C3: 1
C4: 2
C5: 3
C6: 4

Sheet Introduccion

Sheet Autodiagnostico
B2: AUTODIAGNÓSTICO DE COMPETENCIAS PARA EL SEGUIMIENTO, EVALUACIÓN Y GESTIÓN DEL CONOCIMIENTO
B3: Nombre completo
B5: Institución (si corresponde) | C5: Fecha del Autodiagnóstico
A8: SEGUIMIENTO --> | B8: I. COMPETENCIAS ESPECÍFICAS PARA EL SEGUIMIENTO
B9: 1. Diseñar el Plan de seguimiento, evaluación y gestión del conocimiento, en función a los objetivos que se espera alcanzar con el Plan / Programa / Proyecto.
B10: 1.1 Conceptualización y establecimiento de relaciones y diferencias entre seguimiento, evaluación, supervisión y control.
B11: 1.2 Aplicación de enfoques de seguimiento (gestión para resultados, monitoreo del desempeño, enfoque del marco lógico, seguimiento de indicadores y seguimiento participativo, monitoreo del contexto, entre otros.)
B12: 1.3 Análisis de la lógica causal de niveles jerárquicos de resultados en función del problema(s) central identificado(s).
B13: 1.4 Análisis del entorno y de la problemática de la población objetivo.
B14: 1.5 Análisis del marco lógico, de la teoría de cambio, del marco de resultados, hipótesis de desarrollo, hipótesis de cambio, vías de impacto u otras.
B15: 1.6 Formulación de indicadores (actividades, productos, resultados, impacto / cualitativos, cuantitativos, índices y mixtos).
B16: 1.7 Definición y operacionalización de indicadores (determinación de dimensiones y variables, forma de cálculo, definición, vínculo hacía los objetivos, cantidad, calidad, tiempo).
B17: 1.8 Análisis de la calidad del indicador (que mida directamente el objetivo, que mida en un determinado tiempo, que sea accesible, que sea medible, que sea sensible al cambio).
B18: 1.9 Identificación de las necesidades de los usuarios respecto del uso de la información generada por el sistema de seguimiento y evaluación.
B19: 1.10 Programación de actividades de seguimiento. Determinación de la frecuencia, procedimiento de recojo de información y designación de responsables.
B20: 1.11 Identificación, búsqueda y uso de fuentes de información.
... B53: 7.4 Formulación de lecciones aprendidas.
A55: EVALUACIÓN --> | B55: II. COMPETENCIAS ESPECÍFICAS PARA LA EVALUACIÓN
B56: 1. Diseñar el plan de evaluación de acuerdo a las necesidades y usuarios del programa / proyecto / política.
B57: 1.1 Análisis del contexto.
B58: 1.2 Identificación de las necesidades de información de los diferentes actores.
B59: 1.3 Análisis de la disponibilidad de datos e información.
B60: 1.4 Identificación de tipo de evaluación que se requiere según el momento de la implementación de la política, plan, programa o proyecto.
B61: 1.5 Elaboración de Nota Conceptual o Nota Metodológica para cada evaluación
B62: 1.6 Estimación del presupuesto y elaboración del cronograma.
B63: 1.7 Aplicación de los criterios de evaluación: pertinencia, eficacia, eficiencia, coherencia, impacto y sostenibilidad.
B64: 2. Elaborar términos de referencia acorde al diseño de evaluación requerida.
B65: 2.1 Determinación del objeto de evaluación (política, plan, programa o proyecto)
B66: 2.2 Formulación de objetivos de la evaluación
B67: 2.3 Planteamiento del alcance y preguntas de evaluación
... B145: 14.3 Elaboración de plan de recomendaciones
A147: GESTIÓN DEL CONOCIMIENTO --> | B147: III. COMPETENCIAS ESPECÍFICAS PARA LA GESTIÓN DEL CONOCIMIENTO
B148: 1. Elaborar el Plan de Gestión del Conocimiento (PGC) de la institución, de manera participativa
B149: 1.1 Análisis del contexto y del marco institucional, incluyendo la identificación de las audiencias (internas y externas).
B150: 1.2 Identificación de necesidades de conocimiento en función de los objetivos institucionales.
B151: 1.3 Identificación y priorización de brechas de conocimiento respecto de las necesidades identificadas.
B152: 1.4 Definición del propósito y los objetivos institucionales sobre gestión de conocimiento
B153: 1.5 Diseño y elaboración de estrategias para la gestión del conocimiento
B154: 1.6 Acciones viables para cubrir las brechas de conocimiento priorizadas
B155: 2. Coadyuvar a la generación del conocimiento, para mejorar y fortalecer la gestión de los planes, programas y proyectos.
B156: 2.1 Impulso y facilitación de procesos de identificación y registro de aprendizajes durante y después de la ejecución de los planes, programas y proyectos.
B157: 2.2 Elaboración de instrumentos que facilitan la identificación y el registro de aprendizajes.
B158: 2.3 Capacitación y asistencia técnica (acompañamiento técnico) en el uso de los instrumentos
B159: 2.4 Realización de iniciativas de desarrollo de conocimientos en temáticas priorizadas.
... B171: 4.2 Identificación e inserción a redes de conocimiento y comunidades de aprendizaje más relevantes.
A173: COMPETENCIAS CLAVES O PERSONAL - SOCIALES | B173: IV. COMPETENCIAS CLAVES O PERSONAL - SOCIALES
B174: 1. Comunicación y escucha activa. Capacidad de comunicar mensajes y contenidos de manera segura, clara y concisa -utilizando diferentes medios y herramientas- entendiendo el juicio del otro con respeto, apertura y empatía.
B175: 2. Facilitación de procesos. Capacidad para acompañar y propiciar espacios para el aprendizaje significativo (útil para el cambio)
B176: 3. Negociación. Capacidad para persuadir a otras personas, utilizando argumentos honestos y basados en evidencias, acercando posiciones de las partes interesadas, para construir acuerdos guiados por el concepto de ganar- ganar.
B177: 4. Desarrollo profesional y autodesarrollo del talento. Perseverancia en el aprendizaje continuo, manteniéndose actualizado y generando o incorporando nuevos conocimientos a su área de trabajo u otros espacios, para obtener mejores resultados.
B178: 5. Comportamiento guiado por valores y principios éticos. Capacidad de sentir y obrar con responsabilidad y de acuerdo con los valores morales, respetando a las personas y las políticas organizacionales.* *Abarca todos los procesos de la planificación, recolección, procesamiento y resguardo de la información, elaboración del informe de seguimiento, evaluación o gestión del conocimiento y su difusión.
B179: 6. Liderazgo de equipos. Capacidad para asegurar una adecuada conducción de personas, desarrollar el talento, y lograr y mantener un clima de trabajo armónico, para conseguir resultados concretos.
B180: 7. Práctica de valores democráticos y participativos. Capacidad para aplicar el enfoque de derecho y perspectivas incluyentes en los procesos de diseño, seguimiento, evaluación y gestión del conocimiento, de las intervenciones.
B181: 8. Trabajo en equipo. Capacidad para el trabajo colaborativo y cooperación con terceros, sentirse parte del grupo y trabajar con los demás.

Sheet Resultados_1
E1: 100
B2: RESULTADOS POR ÁREAS DE COMPETENCIA
B3: Área de competencia | C3: Nivel de desarrollo | G3: <=59% | H3: 60% - 79% | I3: 80 - 99% | J3: 100
B4: =+Autodiagnostico!B8 -> I. COMPETENCIAS ESPECÍFICAS PARA EL SEGUIMIENTO | C4: =IFERROR(AVERAGE(C12:C18),0) -> 0 | E4: =C4*100 -> 0 | G4: =IF(AND(C4<=0.599), C4,NA()) -> 0 | H4: =IF(AND(C4>=0.6, C4<=0.799), C4,NA()) -> #N/A | I4: =IF(AND(C4>=0.8, C4<=0.999), C4,NA()) -> #N/A | J4: =IF(AND(C4=1), C4,NA()) -> #N/A
B5: =+Autodiagnostico!B55 -> II. COMPETENCIAS ESPECÍFICAS PARA LA EVALUACIÓN | C5: =IFERROR(AVERAGE(C22:C35),0) -> 0 | E5: =C5*100 -> 0 | G5: =IF(AND(C5<=0.599), C5,NA()) -> 0 | H5: =IF(AND(C5>=0.6, C5<=0.799), C5,NA()) -> #N/A | I5: =IF(AND(C5>=0.8, C5<=0.999), C5,NA()) -> #N/A | J5: =IF(AND(C5=1), C5,NA()) -> #N/A
B6: =+Autodiagnostico!B147 -> III. COMPETENCIAS ESPECÍFICAS PARA LA GESTIÓN DEL CONOCIMIENTO | C6: =IFERROR(AVERAGE(C39:C42),0) -> 0 | E6: =C6*100 -> 0 | G6: =IF(AND(C6<=0.599), C6,NA()) -> 0 | H6: =IF(AND(C6>=0.6, C6<=0.799), C6,NA()) -> #N/A | I6: =IF(AND(C6>=0.8, C6<=0.999), C6,NA()) -> #N/A | J6: =IF(AND(C6=1), C6,NA()) -> #N/A
B8: RESULTADOS POR COMPETENCIAS ESPECÍFICAS
B10: =+Autodiagnostico!B8 -> I. COMPETENCIAS ESPECÍFICAS PARA EL SEGUIMIENTO
B11: Competencias | C11: Nivel de desarrollo
B12: =+Autodiagnostico!B9 -> 1. Diseñar el Plan de seguimiento, evaluación y gestión del conocimiento, en función a los objetivos que se espera alcanzar con el Plan / Programa / Proyecto. | C12: =IFERROR(AVERAGE(BD!$D$2:$R$100)/4,0) -> 0 | E12: =C12*100 -> 0 | F12: C1 | G12: =IF(AND(C12<=0.599), C12,NA()) -> 0 | H12: =IF(AND(C12>=0.6, C12<=0.799), C12,NA()) -> #N/A | I12: =IF(AND(C12>=0.8, C12<=0.999), C12,NA()) -> #N/A | J12: =IF(AND(C12=1), C12,NA()) -> #N/A
B13: =+Autodiagnostico!B25 -> 2. Diseñar los instrumentos /herramientas de recojo de datos en función del plan de seguimiento, evaluación y gestión del conocimiento | C13: =IFERROR(AVERAGE(BD!$S$2:$U$100)/4,0) -> 0 | E13: =C13*100 -> 0 | F13: C2 | G13: =IF(AND(C13<=0.599), C13,NA()) -> 0 | H13: =IF(AND(C13>=0.6, C13<=0.799), C13,NA()) -> #N/A | I13: =IF(AND(C13>=0.8, C13<=0.999), C13,NA()) -> #N/A | J13: =IF(AND(C13=1), C13,NA()) -> #N/A
B14: =+Autodiagnostico!B29 -> 3. Diseñar el proceso de recolección de datos en función a la herramienta/instrumento de recolección. | C14: =IFERROR(AVERAGE(BD!$V$2:$AA$100)/4,0) -> 0 | E14: =C14*100 -> 0 | F14: C3 | G14: =IF(AND(C14<=0.599), C14,NA()) -> 0 | H14: =IF(AND(C14>=0.6, C14<=0.799), C14,NA()) -> #N/A | I14: =IF(AND(C14>=0.8, C14<=0.999), C14,NA()) -> #N/A | J14: =IF(AND(C14=1), C14,NA()) -> #N/A
B15: =+Autodiagnostico!B36 -> 4. Recolectar datos utilizando instrumentos/ herramientas de recojo de información acorde con los indicadores establecidos | C15: =IFERROR(AVERAGE(BD!$AB$2:$AE$100)/4,0) -> 0 | E15: =C15*100 -> 0 | F15: C4 | G15: =IF(AND(C15<=0.599), C15,NA()) -> 0 | H15: =IF(AND(C15>=0.6, C15<=0.799), C15,NA()) -> #N/A | I15: =IF(AND(C15>=0.8, C15<=0.999), C15,NA()) -> #N/A | J15: =IF(AND(C15=1), C15,NA()) -> #N/A
B16: =+Autodiagnostico!B41 -> 5. Verificar la calidad del dato recolectado de acuerdo a los criterios preestablecidos. | C16: =IFERROR(AVERAGE(BD!$AF$2:$AH$100)/4,0) -> 0 | E16: =C16*100 -> 0 | F16: C5 | G16: =IF(AND(C16<=0.599), C16,NA()) -> 0 | H16: =IF(AND(C16>=0.6, C16<=0.799), C16,NA()) -> #N/A | I16: =IF(AND(C16>=0.8, C16<=0.999), C16,NA()) -> #N/A | J16: =IF(AND(C16=1), C16,NA()) -> #N/A
B17: =+Autodiagnostico!B45 -> 6. Procesar los datos en función de las necesidades de análisis. | C17: =IFERROR(AVERAGE(BD!$AI$2:$AK$100)/4,0) -> 0 | E17: =C17*100 -> 0 | F17: C6 | G17: =IF(AND(C17<=0.599), C17,NA()) -> 0 | H17: =IF(AND(C17>=0.6, C17<=0.799), C17,NA()) -> #N/A | I17: =IF(AND(C17>=0.8, C17<=0.999), C17,NA()) -> #N/A | J17: =IF(AND(C17=1), C17,NA()) -> #N/A
B18: =+Autodiagnostico!B49 -> 7. Elaborar reportes de seguimiento proporcionando recomendaciones según los diversos usuarios. | C18: =IFERROR(AVERAGE(BD!$AL$2:$AO$100)/4,0) -> 0 | E18: =C18*100 -> 0 | F18: C7 | G18: =IF(AND(C18<=0.599), C18,NA()) -> 0 | H18: =IF(AND(C18>=0.6, C18<=0.799), C18,NA()) -> #N/A | I18: =IF(AND(C18>=0.8, C18<=0.999), C18,NA()) -> #N/A | J18: =IF(AND(C18=1), C18,NA()) -> #N/A
B20: =+Autodiagnostico!B55 -> II. COMPETENCIAS ESPECÍFICAS PARA LA EVALUACIÓN
B21: Competencias | C21: Nivel de desarrollo
B22: =+Autodiagnostico!B56 -> 1. Diseñar el plan de evaluación de acuerdo a las necesidades y usuarios del programa / proyecto / política. | C22: =IFERROR(AVERAGE(BD!$AP$2:$AV$100)/4,0) -> 0 | E22: =C22*100 -> 0 | F22: C1 | G22: =IF(AND(C22<=0.599), C22,NA()) -> 0 | H22: =IF(AND(C22>=0.6, C22<=0.799), C22,NA()) -> #N/A | I22: =IF(AND(C22>=0.8, C22<=0.999), C22,NA()) -> #N/A | J22: =IF(AND(C22=1), C22,NA()) -> #N/A
B23: =+Autodiagnostico!B64 -> 2. Elaborar términos de referencia acorde al diseño de evaluación requerida. | C23: =IFERROR(AVERAGE(BD!$AW$2:$BE$100)/4,0) -> 0 | E23: =C23*100 -> 0 | F23: C2 | G23: =IF(AND(C23<=0.599), C23,NA()) -> 0 | H23: =IF(AND(C23>=0.6, C23<=0.799), C23,NA()) -> #N/A | I23: =IF(AND(C23>=0.8, C23<=0.999), C23,NA()) -> #N/A | J23: =IF(AND(C23=1), C23,NA()) -> #N/A
B24: =+Autodiagnostico!B74 -> 3.Elaborar el diseño de las evaluaciones acorde a los objetivos de la evaluación | C24: =IFERROR(AVERAGE(BD!$BF$2:$BW$100)/4,0) -> 0 | E24: =C24*100 -> 0 | F24: C3 | G24: =IF(AND(C24<=0.599), C24,NA()) -> 0 | H24: =IF(AND(C24>=0.6, C24<=0.799), C24,NA()) -> #N/A | I24: =IF(AND(C24>=0.8, C24<=0.999), C24,NA()) -> #N/A | J24: =IF(AND(C24=1), C24,NA()) -> #N/A
B25: =+Autodiagnostico!B93 -> 4. Elaborar instrumentos de recojo de datos válidos y confiables según el diseño de la evaluación. | C25: =IFERROR(AVERAGE(BD!$BX$2:$CA$100)/4,0) -> 0 | E25: =C25*100 -> 0 | F25: C4 | G25: =IF(AND(C25<=0.599), C25,NA()) -> 0 | H25: =IF(AND(C25>=0.6, C25<=0.799), C25,NA()) -> #N/A | I25: =IF(AND(C25>=0.8, C25<=0.999), C25,NA()) -> #N/A | J25: =IF(AND(C25=1), C25,NA()) -> #N/A
B26: =+Autodiagnostico!B98 -> 5. Recolectar datos aplicando técnicas apropiadas con estándares de control y calidad. | C26: =IFERROR(AVERAGE(BD!$CB$2:$CE$100)/4,0) -> 0 | E26: =C26*100 -> 0 | F26: C5 | G26: =IF(AND(C26<=0.599), C26,NA()) -> 0 | H26: =IF(AND(C26>=0.6, C26<=0.799), C26,NA()) -> #N/A | I26: =IF(AND(C26>=0.8, C26<=0.999), C26,NA()) -> #N/A | J26: =IF(AND(C26=1), C26,NA()) -> #N/A
B27: =+Autodiagnostico!B103 -> 6. Procesar los datos verificando su calidad. | C27: =IFERROR(AVERAGE(BD!$CF$2:$CJ$100)/4,0) -> 0 | E27: =C27*100 -> 0 | F27: C6 | G27: =IF(AND(C27<=0.599), C27,NA()) -> 0 | H27: =IF(AND(C27>=0.6, C27<=0.799), C27,NA()) -> #N/A | I27: =IF(AND(C27>=0.8, C27<=0.999), C27,NA()) -> #N/A | J27: =IF(AND(C27=1), C27,NA()) -> #N/A
B28: =+Autodiagnostico!B109 -> 7. Categorizar la información de acuerdo a las preguntas y objetivos de la evaluación | C28: =IFERROR(AVERAGE(BD!$CK$2:$CM$100)/4,0) -> 0 | E28: =C28*100 -> 0 | F28: C7 | G28: =IF(AND(C28<=0.599), C28,NA()) -> 0 | H28: =IF(AND(C28>=0.6, C28<=0.799), C28,NA()) -> #N/A | I28: =IF(AND(C28>=0.8, C28<=0.999), C28,NA()) -> #N/A | J28: =IF(AND(C28=1), C28,NA()) -> #N/A
B29: =+Autodiagnostico!B113 -> 8. Identificar los hallazgos significativos en función a las preguntas y objetivos de la evaluación | C29: =IFERROR(AVERAGE(BD!$CN$2:$CT$100)/4,0) -> 0 | E29: =C29*100 -> 0 | F29: C8 | G29: =IF(AND(C29<=0.599), C29,NA()) -> 0 | H29: =IF(AND(C29>=0.6, C29<=0.799), C29,NA()) -> #N/A | I29: =IF(AND(C29>=0.8, C29<=0.999), C29,NA()) -> #N/A | J29: =IF(AND(C29=1), C29,NA()) -> #N/A
B30: =+Autodiagnostico!B121 -> 9. Formular las conclusiones sintetizando y comparando las evidencias con juicios de valor y mérito. | C30: =IFERROR(AVERAGE(BD!$CU$2:$CW$100)/4,0) -> 0 | E30: =C30*100 -> 0 | F30: C9 | G30: =IF(AND(C30<=0.599), C30,NA()) -> 0 | H30: =IF(AND(C30>=0.6, C30<=0.799), C30,NA()) -> #N/A | I30: =IF(AND(C30>=0.8, C30<=0.999), C30,NA()) -> #N/A | J30: =IF(AND(C30=1), C30,NA()) -> #N/A
B31: =+Autodiagnostico!B125 -> 10. Formular recomendaciones de acuerdo al contexto institucional, a los objetivos de evaluación, incorporando la perspectiva de los usuarios. | C31: =IFERROR(AVERAGE(BD!$CX$2:$CZ$100)/4,0) -> 0 | E31: =C31*100 -> 0 | F31: C10 | G31: =IF(AND(C31<=0.599), C31,NA()) -> 0 | H31: =IF(AND(C31>=0.6, C31<=0.799), C31,NA()) -> #N/A | I31: =IF(AND(C31>=0.8, C31<=0.999), C31,NA()) -> #N/A | J31: =IF(AND(C31=1), C31,NA()) -> #N/A
B32: =+Autodiagnostico!B129 -> 11. Formular lecciones aprendidas de acuerdo a los resultados de la evaluación. | C32: =IFERROR(AVERAGE(BD!$DA$2:$DB$100)/4,0) -> 0 | E32: =C32*100 -> 0 | F32: C11 | G32: =IF(AND(C32<=0.599), C32,NA()) -> 0 | H32: =IF(AND(C32>=0.6, C32<=0.799), C32,NA()) -> #N/A | I32: =IF(AND(C32>=0.8, C32<=0.999), C32,NA()) -> #N/A | J32: =IF(AND(C32=1), C32,NA()) -> #N/A
B33: =+Autodiagnostico!B132 -> 12. Elaborar el informe final de la evaluación según estándares adoptados por la institución. | C33: =IFERROR(AVERAGE(BD!$DC$2:$DD$100)/4,0) -> 0 | E33: =C33*100 -> 0 | F33: C12 | G33: =IF(AND(C33<=0.599), C33,NA()) -> 0 | H33: =IF(AND(C33>=0.6, C33<=0.799), C33,NA()) -> #N/A | I33: =IF(AND(C33>=0.8, C33<=0.999), C33,NA()) -> #N/A | J33: =IF(AND(C33=1), C33,NA()) -> #N/A
B34: =+Autodiagnostico!B135 -> 13. Evaluar el diseño y el informe final de una evaluación, aplicando los estándares adoptados por la institución. | C34: =IFERROR(AVERAGE(BD!$DE$2:$DJ$100)/4,0) -> 0 | E34: =C34*100 -> 0 | F34: C13 | G34: =IF(AND(C34<=0.599), C34,NA()) -> 0 | H34: =IF(AND(C34>=0.6, C34<=0.799), C34,NA()) -> #N/A | I34: =IF(AND(C34>=0.8, C34<=0.999), C34,NA()) -> #N/A | J34: =IF(AND(C34=1), C34,NA()) -> #N/A
B35: =+Autodiagnostico!B142 -> 14. Difusión y uso de los resultados de la evaluación | C35: =IFERROR(AVERAGE(BD!$DK$2:$DM$100)/4,0) -> 0 | E35: =C35*100 -> 0 | F35: C14 | G35: =IF(AND(C35<=0.599), C35,NA()) -> 0 | H35: =IF(AND(C35>=0.6, C35<=0.799), C35,NA()) -> #N/A | I35: =IF(AND(C35>=0.8, C35<=0.999), C35,NA()) -> #N/A | J35: =IF(AND(C35=1), C35,NA()) -> #N/A
B37: =+Autodiagnostico!B147 -> III. COMPETENCIAS ESPECÍFICAS PARA LA GESTIÓN DEL CONOCIMIENTO
B38: Competencias | C38: Nivel de desarrollo
B39: =+Autodiagnostico!B148 -> 1. Elaborar el Plan de Gestión del Conocimiento (PGC) de la institución, de manera participativa | C39: =IFERROR(AVERAGE(BD!$DN$2:$DS$100)/4,0) -> 0 | E39: =C39*100 -> 0 | F39: C1 | G39: =IF(AND(C39<=0.599), C39,NA()) -> 0 | H39: =IF(AND(C39>=0.6, C39<=0.799), C39,NA()) -> #N/A | I39: =IF(AND(C39>=0.8, C39<=0.999), C39,NA()) -> #N/A | J39: =IF(AND(C39=1), C39,NA()) -> #N/A
B40: =+Autodiagnostico!B155 -> 2. Coadyuvar a la generación del conocimiento, para mejorar y fortalecer la gestión de los planes, programas y proyectos. | C40: =IFERROR(AVERAGE(BD!$DT$2:$DX$100)/4,0) -> 0 | E40: =C40*100 -> 0 | F40: C2 | G40: =IF(AND(C40<=0.599), C40,NA()) -> 0 | H40: =IF(AND(C40>=0.6, C40<=0.799), C40,NA()) -> #N/A | I40: =IF(AND(C40>=0.8, C40<=0.999), C40,NA()) -> #N/A | J40: =IF(AND(C40=1), C40,NA()) -> #N/A
B41: =+Autodiagnostico!B161 -> 3. Acopiar, sistematizar y difundir el conocimiento, considerando los saberes ancestrales y los enfoques transversales(*) en los planes, programas y proyectos. * (género, interculturalidad, derechos, medio ambiente)” | C41: =IFERROR(AVERAGE(BD!$DY$2:$EE$100)/4,0) -> 0 | E41: =C41*100 -> 0 | F41: C3 | G41: =IF(AND(C41<=0.599), C41,NA()) -> 0 | H41: =IF(AND(C41>=0.6, C41<=0.799), C41,NA()) -> #N/A | I41: =IF(AND(C41>=0.8, C41<=0.999), C41,NA()) -> #N/A | J41: =IF(AND(C41=1), C41,NA()) -> #N/A
B42: =+Autodiagnostico!B169 -> 4. Impulsar el intercambio de información interinstitucional para fortalecer la gestión relacionado con los planes, programas y proyectos. | C42: =IFERROR(AVERAGE(BD!$EF$2:$EG$100)/4,0) -> 0 | E42: =C42*100 -> 0 | F42: C4 | G42: =IF(AND(C42<=0.599), C42,NA()) -> 0 | H42: =IF(AND(C42>=0.6, C42<=0.799), C42,NA()) -> #N/A | I42: =IF(AND(C42>=0.8, C42<=0.999), C42,NA()) -> #N/A | J42: =IF(AND(C42=1), C42,NA()) -> #N/A
E44: 4
B45: =+Autodiagnostico!B173 -> IV. COMPETENCIAS CLAVES O PERSONAL - SOCIALES
B46: Competencias | C46: Nivel de desarrollo
B47: =+Autodiagnostico!B174 -> 1. Comunicación y escucha activa. Capacidad de comunicar mensajes y contenidos de manera segura, clara y concisa -utilizando diferentes medios y herramientas- entendiendo el juicio del otro con respeto, apertura y empatía. | C47: =IFERROR(ROUND(AVERAGE(BD!$EH$2:$EH$100),0),0) -> 0 | E47: =+C47 -> 0 | F47: C1 | G47: =IF(AND(C47=1), C47,NA()) -> #N/A | H47: =IF(AND(C47=2), C47,NA()) -> #N/A | I47: =IF(AND(C47=3), C47,NA()) -> #N/A | J47: =IF(AND(C47=4), C47,NA()) -> #N/A
B48: =+Autodiagnostico!B175 -> 2. Facilitación de procesos. Capacidad para acompañar y propiciar espacios para el aprendizaje significativo (útil para el cambio) | C48: =IFERROR(ROUND(AVERAGE(BD!$EI$2:$EI$100),0),0) -> 0 | E48: =+C48 -> 0 | F48: C2 | G48: =IF(AND(C48=1), C48,NA()) -> #N/A | H48: =IF(AND(C48=2), C48,NA()) -> #N/A | I48: =IF(AND(C48=3), C48,NA()) -> #N/A | J48: =IF(AND(C48=4), C48,NA()) -> #N/A
B49: =+Autodiagnostico!B176 -> 3. Negociación. Capacidad para persuadir a otras personas, utilizando argumentos honestos y basados en evidencias, acercando posiciones de las partes interesadas, para construir acuerdos guiados por el concepto de ganar- ganar. | C49: =IFERROR(ROUND(AVERAGE(BD!$EJ$2:$EJ$100),0),0) -> 0 | E49: =+C49 -> 0 | F49: C3 | G49: =IF(AND(C49=1), C49,NA()) -> #N/A | H49: =IF(AND(C49=2), C49,NA()) -> #N/A | I49: =IF(AND(C49=3), C49,NA()) -> #N/A | J49: =IF(AND(C49=4), C49,NA()) -> #N/A
B50: =+Autodiagnostico!B177 -> 4. Desarrollo profesional y autodesarrollo del talento. Perseverancia en el aprendizaje continuo, manteniéndose actualizado y generando o incorporando nuevos conocimientos a su área de trabajo u otros espacios, para obtener mejores resultados. | C50: =IFERROR(ROUND(AVERAGE(BD!$EK$2:$EK$100),0),0) -> 0 | E50: =+C50 -> 0 | F50: C4 | G50: =IF(AND(C50=1), C50,NA()) -> #N/A | H50: =IF(AND(C50=2), C50,NA()) -> #N/A | I50: =IF(AND(C50=3), C50,NA()) -> #N/A | J50: =IF(AND(C50=4), C50,NA()) -> #N/A
B51: =+Autodiagnostico!B178 -> 5. Comportamiento guiado por valores y principios éticos. Capacidad de sentir y obrar con responsabilidad y de acuerdo con los valores morales, respetando a las personas y las políticas organizacionales.* *Abarca todos los procesos de la planificación, recolección, procesamiento y resguardo de la información, elaboración del informe de seguimiento, evaluación o gestión del conocimiento y su difusión. | C51: =IFERROR(ROUND(AVERAGE(BD!$EL$2:$EL$100),0),0) -> 0 | E51: =+C51 -> 0 | F51: C5 | G51: =IF(AND(C51=1), C51,NA()) -> #N/A | H51: =IF(AND(C51=2), C51,NA()) -> #N/A | I51: =IF(AND(C51=3), C51,NA()) -> #N/A | J51: =IF(AND(C51=4), C51,NA()) -> #N/A
B52: =+Autodiagnostico!B179 -> 6. Liderazgo de equipos. Capacidad para asegurar una adecuada conducción de personas, desarrollar el talento, y lograr y mantener un clima de trabajo armónico, para conseguir resultados concretos. | C52: =IFERROR(ROUND(AVERAGE(BD!$EM$2:$EM$100),0),0) -> 0 | E52: =+C52 -> 0 | F52: C6 | G52: =IF(AND(C52=1), C52,NA()) -> #N/A | H52: =IF(AND(C52=2), C52,NA()) -> #N/A | I52: =IF(AND(C52=3), C52,NA()) -> #N/A | J52: =IF(AND(C52=4), C52,NA()) -> #N/A
B53: =+Autodiagnostico!B180 -> 7. Práctica de valores democráticos y participativos. Capacidad para aplicar el enfoque de derecho y perspectivas incluyentes en los procesos de diseño, seguimiento, evaluación y gestión del conocimiento, de las intervenciones. | C53: =IFERROR(ROUND(AVERAGE(BD!$EN$2:$EN$100),0),0) -> 0 | E53: =+C53 -> 0 | F53: C7 | G53: =IF(AND(C53=1), C53,NA()) -> #N/A | H53: =IF(AND(C53=2), C53,NA()) -> #N/A | I53: =IF(AND(C53=3), C53,NA()) -> #N/A | J53: =IF(AND(C53=4), C53,NA()) -> #N/A
B54: =+Autodiagnostico!B181 -> 8. Trabajo en equipo. Capacidad para el trabajo colaborativo y cooperación con terceros, sentirse parte del grupo y trabajar con los demás. | C54: =IFERROR(ROUND(AVERAGE(BD!$EO$2:$EO$100),0),0) -> 0 | E54: =+C54 -> 0 | F54: C8 | G54: =IF(AND(C54=1), C54,NA()) -> #N/A | H54: =IF(AND(C54=2), C54,NA()) -> #N/A | I54: =IF(AND(C54=3), C54,NA()) -> #N/A | J54: =IF(AND(C54=4), C54,NA()) -> #N/A

Sheet Resultados_2
G1: 100
B2: RESULTADOS POR COMPETENCIAS ESPECÍFICAS Y SABERES
D3: Puntaje | E3: Nivel de desarrollo
B4: SEGUIMIENTO --> | C4: I. COMPETENCIAS ESPECÍFICAS PARA EL SEGUIMIENTO
C5: 1. Diseñar el Plan de seguimiento, evaluación y gestión del conocimiento, en función a los objetivos que se espera alcanzar con el Plan / Programa / Proyecto. | D5: =AVERAGE(D6:D20) -> #DIV/0! | E5: =IFERROR((AVERAGE(D6:D20)/4),0) -> 0 | G5: =+E5*100 -> 0
C6: 1.1 Conceptualización y establecimiento de relaciones y diferencias entre seguimiento, evaluación, supervisión y control. | D6: =AVERAGE(BD!$D$2:$D$10000) -> #DIV/0! | E6: =IFERROR(D6/4,0) -> 0 | G6: =+E6*100 -> 0
C7: 1.2 Aplicación de enfoques de seguimiento (gestión para resultados, monitoreo del desempeño, enfoque del marco lógico, seguimiento de indicadores y seguimiento participativo, monitoreo del contexto, entre otros.) | D7: =AVERAGE(BD!$E$2:$E$10000) -> #DIV/0! | E7: =IFERROR(D7/4,0) -> 0 | G7: =+E7*100 -> 0
C8: 1.3 Análisis de la lógica causal de niveles jerárquicos de resultados en función del problema(s) central identificado(s). | D8: =AVERAGE(BD!$F$2:$F$10000) -> #DIV/0! | E8: =IFERROR(D8/4,0) -> 0 | G8: =+E8*100 -> 0
C9: 1.4 Análisis del entorno y de la problemática de la población objetivo. | D9: =AVERAGE(BD!$G$2:$G$10000) -> #DIV/0! | E9: =IFERROR(D9/4,0) -> 0 | G9: =+E9*100 -> 0
C10: 1.5 Análisis del marco lógico, de la teoría de cambio, del marco de resultados, hipótesis de desarrollo, hipótesis de cambio, vías de impacto u otras. | D10: =AVERAGE(BD!$H$2:$H$10000) -> #DIV/0! | E10: =IFERROR(D10/4,0) -> 0 | G10: =+E10*100 -> 0
C11: 1.6 Formulación de indicadores (actividades, productos, resultados, impacto / cualitativos, cuantitativos, índices y mixtos). | D11: =AVERAGE(BD!$I$2:$I$10000) -> #DIV/0! | E11: =IFERROR(D11/4,0) -> 0 | G11: =+E11*100 -> 0
C12: 1.7 Definición y operacionalización de indicadores (determinación de dimensiones y variables, forma de cálculo, definición, vínculo hacía los objetivos, cantidad, calidad, tiempo). | D12: =AVERAGE(BD!$J$2:$J$10000) -> #DIV/0! | E12: =IFERROR(D12/4,0) -> 0 | G12: =+E12*100 -> 0
C13: 1.8 Análisis de la calidad del indicador (que mida directamente el objetivo, que mida en un determinado tiempo, que sea accesible, que sea medible, que sea sensible al cambio). | D13: =AVERAGE(BD!$K$2:$K$10000) -> #DIV/0! | E13: =IFERROR(D13/4,0) -> 0 | G13: =+E13*100 -> 0
C14: 1.9 Identificación de las necesidades de los usuarios respecto del uso de la información generada por el sistema de seguimiento y evaluación. | D14: =AVERAGE(BD!$L$2:$L$10000) -> #DIV/0! | E14: =IFERROR(D14/4,0) -> 0 | G14: =+E14*100 -> 0
C15: 1.10 Programación de actividades de seguimiento. Determinación de la frecuencia, procedimiento de recojo de información y designación de responsables. | D15: =AVERAGE(BD!$M$2:$M$10000) -> #DIV/0! | E15: =IFERROR(D15/4,0) -> 0 | G15: =+E15*100 -> 0
C16: 1.11 Identificación, búsqueda y uso de fuentes de información. | D16: =AVERAGE(BD!$N$2:$N$10000) -> #DIV/0! | E16: =IFERROR(D16/4,0) -> 0 | G16: =+E16*100 -> 0
C17: 1.12 Organización de recursos para el seguimiento: humanos, financieros, organizacionales, tecnológicos y tiempo. | D17: =AVERAGE(BD!$O$2:$O$10000) -> #DIV/0! | E17: =IFERROR(D17/4,0) -> 0 | G17: =+E17*100 -> 0
C18: 1.13 Integración de la gestión del conocimiento en los procesos de seguimiento y evaluación. | D18: =AVERAGE(BD!$P$2:$P$10000) -> #DIV/0! | E18: =IFERROR(D18/4,0) -> 0 | G18: =+E18*100 -> 0
C19: 1.14 Análisis de riesgos para la implementación de la intervención | D19: =AVERAGE(BD!$Q$2:$Q$10000) -> #DIV/0! | E19: =IFERROR(D19/4,0) -> 0 | G19: =+E19*100 -> 0
C20: 1.15 Análisis de riesgos para la implementación del plan de seguimiento, evaluación y gestión del conocimiento | D20: =AVERAGE(BD!$R$2:$R$10000) -> #DIV/0! | E20: =IFERROR(D20/4,0) -> 0 | G20: =+E20*100 -> 0
C21: 2. Diseñar los instrumentos /herramientas de recojo de datos en función del plan de seguimiento, evaluación y gestión del conocimiento | D21: =AVERAGE(D22:D24) -> #DIV/0! | E21: =IFERROR(D21/4,0) -> 0 | G21: =+E21*100 -> 0
C22: 2.1 Identificación de técnicas de recolección de datos: revisión documentaria, entrevista, encuesta y grupos focales, entre otras. | D22: =AVERAGE(BD!$S$2:$S$10000) -> #DIV/0! | E22: =IFERROR(D22/4,0) -> 0 | G22: =+E22*100 -> 0
C23: 2.2 Diseño de instrumentos/herramientas de acuerdo al tipo de información requerida: cuantitativa y cualitativa | D23: =AVERAGE(BD!$T$2:$T$10000) -> #DIV/0! | E23: =IFERROR(D23/4,0) -> 0 | G23: =+E23*100 -> 0
C24: 2.3 Diseño muestral (cuantitativo y cualitativo). | D24: =AVERAGE(BD!$U$2:$U$10000) -> #DIV/0! | E24: =IFERROR(D24/4,0) -> 0 | G24: =+E24*100 -> 0
C25: 3. Diseñar el proceso de recolección de datos en función a la herramienta/instrumento de recolección. | D25: =AVERAGE(D26:D31) -> #DIV/0! | E25: =IFERROR(D25/4,0) -> 0 | G25: =+E25*100 -> 0
C26: 3.1 Determinación de la muestra a través de la aplicación de técnicas de muestreo. | D26: =AVERAGE(BD!$V$2:$V$10000) -> #DIV/0! | E26: =IFERROR(D26/4,0) -> 0 | G26: =+E26*100 -> 0
C27: 3.2 Organización del proceso de recolección de datos para el seguimiento (recursos: personal, presupuesto, tiempo). | D27: =AVERAGE(BD!$W$2:$W$10000) -> #DIV/0! | E27: =IFERROR(D27/4,0) -> 0 | G27: =+E27*100 -> 0
C28: 3.3 Elaboración de los flujos de información. | D28: =AVERAGE(BD!$X$2:$X$10000) -> #DIV/0! | E28: =IFERROR(D28/4,0) -> 0 | G28: =+E28*100 -> 0
C29: 3.4 Elaboración de perfiles del personal de campo, interno y externo. | D29: =AVERAGE(BD!$Y$2:$Y$10000) -> #DIV/0! | E29: =IFERROR(D29/4,0) -> 0 | G29: =+E29*100 -> 0
C30: 3.5 Validación de instrumentos/herramientas de recolección de datos | D30: =AVERAGE(BD!$Z$2:$Z$10000) -> #DIV/0! | E30: =IFERROR(D30/4,0) -> 0 | G30: =+E30*100 -> 0
C31: 3.6 Diseño de líneas de base (primera medición de indicadores) | D31: =AVERAGE(BD!$AA$2:$AA$10000) -> #DIV/0! | E31: =IFERROR(D31/4,0) -> 0 | G31: =+E31*100 -> 0
C32: 4. Recolectar datos utilizando instrumentos/ herramientas de recojo de información acorde con los indicadores establecidos | D32: =AVERAGE(D33:D36) -> #DIV/0! | E32: =IFERROR(D32/4,0) -> 0 | G32: =+E32*100 -> 0
C33: 4.1 Obtención de la muestra. | D33: =AVERAGE(BD!$AB$2:$AB$10000) -> #DIV/0! | E33: =IFERROR(D33/4,0) -> 0 | G33: =+E33*100 -> 0
C34: 4.2 Aplicación de técnicas de recolección de datos: revisión documental, entrevista, grupos focales, observación, y encuesta -entre otros- así como sus respectivos instrumentos (guías, cuestionarios, según corresponda). | D34: =AVERAGE(BD!$AC$2:$AC$10000) -> #DIV/0! | E34: =IFERROR(D34/4,0) -> 0 | G34: =+E34*100 -> 0
C35: 4.3 Cálculo de líneas de base | D35: =AVERAGE(BD!$AD$2:$AD$10000) -> #DIV/0! | E35: =IFERROR(D35/4,0) -> 0 | G35: =+E35*100 -> 0
C36: 4.4 Diseño de base de datos. | D36: =AVERAGE(BD!$AE$2:$AE$10000) -> #DIV/0! | E36: =IFERROR(D36/4,0) -> 0 | G36: =+E36*100 -> 0
C37: 5. Verificar la calidad del dato recolectado de acuerdo a los criterios preestablecidos. | D37: =AVERAGE(D38:D40) -> #DIV/0! | E37: =IFERROR(D37/4,0) -> 0 | G37: =+E37*100 -> 0
C38: 5.1 Análisis de bases de datos | D38: =AVERAGE(BD!$AF$2:$AF$10000) -> #DIV/0! | E38: =IFERROR(D38/4,0) -> 0 | G38: =+E38*100 -> 0
C39: 5.2 Cruces de fuentes de información | D39: =AVERAGE(BD!$AG$2:$AG$10000) -> #DIV/0! | E39: =IFERROR(D39/4,0) -> 0 | G39: =+E39*100 -> 0
C40: 5.3 Aplicación de estándares de calidad de datos: validez, integridad, precisión, confiabilidad, oportunidad, entre otros. | D40: =AVERAGE(BD!$AH$2:$AH$10000) -> #DIV/0! | E40: =IFERROR(D40/4,0) -> 0 | G40: =+E40*100 -> 0
C41: 6. Procesar los datos en función de las necesidades de análisis. | D41: =AVERAGE(D42:D44) -> #DIV/0! | E41: =IFERROR(D41/4,0) -> 0 | G41: =+E41*100 -> 0
C42: 6.1 Uso de softwares de procesamiento de datos (cuantitativos y cualitativos) | D42: =AVERAGE(BD!$AI$2:$AI$10000) -> #DIV/0! | E42: =IFERROR(D42/4,0) -> 0 | G42: =+E42*100 -> 0
C43: 6.2 Ordenamiento de datos. | D43: =AVERAGE(BD!$AJ$2:$AJ$10000) -> #DIV/0! | E43: =IFERROR(D43/4,0) -> 0 | G43: =+E43*100 -> 0
C44: 6.3 Procesamiento y análisis de datos. | D44: =AVERAGE(BD!$AK$2:$AK$10000) -> #DIV/0! | E44: =IFERROR(D44/4,0) -> 0 | G44: =+E44*100 -> 0
C45: 7. Elaborar reportes de seguimiento proporcionando recomendaciones según los diversos usuarios. | D45: =AVERAGE(D46:D49) -> #DIV/0! | E45: =IFERROR(D45/4,0) -> 0 | G45: =+E45*100 -> 0
C46: 7.1 Categorización de tipos de reportes de seguimiento según usuarios. | D46: =AVERAGE(BD!$AL$2:$AL$10000) -> #DIV/0! | E46: =IFERROR(D46/4,0) -> 0 | G46: =+E46*100 -> 0
C47: 7.2 Análisis de la información | D47: =AVERAGE(BD!$AM$2:$AM$10000) -> #DIV/0! | E47: =IFERROR(D47/4,0) -> 0 | G47: =+E47*100 -> 0
C48: 7.3 Elaboración de recomendaciones | D48: =AVERAGE(BD!$AN$2:$AN$10000) -> #DIV/0! | E48: =IFERROR(D48/4,0) -> 0 | G48: =+E48*100 -> 0
C49: 7.4 Formulación de lecciones aprendidas. | D49: =AVERAGE(BD!$AO$2:$AO$10000) -> #DIV/0! | E49: =IFERROR(D49/4,0) -> 0 | G49: =+E49*100 -> 0
B51: EVALUACIÓN --> | C51: II. COMPETENCIAS ESPECÍFICAS PARA LA EVALUACIÓN
C52: 1. Diseñar el plan de evaluación de acuerdo a las necesidades y usuarios del programa / proyecto / política. | D52: =AVERAGE(D53:D59) -> #DIV/0! | E52: =IFERROR(D52/4,0) -> 0 | G52: =+E52*100 -> 0
C53: 1.1 Análisis del contexto. | D53: =AVERAGE(BD!$AP$2:$AP$10000) -> #DIV/0! | E53: =IFERROR(D53/4,0) -> 0 | G53: =+E53*100 -> 0
C54: 1.2 Identificación de las necesidades de información de los diferentes actores. | D54: =AVERAGE(BD!$AQ$2:$AQ$10000) -> #DIV/0! | E54: =IFERROR(D54/4,0) -> 0 | G54: =+E54*100 -> 0
C55: 1.3 Análisis de la disponibilidad de datos e información. | D55: =AVERAGE(BD!$AR$2:$AR$10000) -> #DIV/0! | E55: =IFERROR(D55/4,0) -> 0 | G55: =+E55*100 -> 0
C56: 1.4 Identificación de tipo de evaluación que se requiere según el momento de la implementación de la política, plan, programa o proyecto. | D56: =AVERAGE(BD!$AS$2:$AS$10000) -> #DIV/0! | E56: =IFERROR(D56/4,0) -> 0 | G56: =+E56*100 -> 0
C57: 1.5 Elaboración de Nota Conceptual o Nota Metodológica para cada evaluación | D57: =AVERAGE(BD!$AT$2:$AT$10000) -> #DIV/0! | E57: =IFERROR(D57/4,0) -> 0 | G57: =+E57*100 -> 0
C58: 1.6 Estimación del presupuesto y elaboración del cronograma. | D58: =AVERAGE(BD!$AU$2:$AU$10000) -> #DIV/0! | E58: =IFERROR(D58/4,0) -> 0 | G58: =+E58*100 -> 0
C59: 1.7 Aplicación de los criterios de evaluación: pertinencia, eficacia, eficiencia, coherencia, impacto y sostenibilidad. | D59: =AVERAGE(BD!$AV$2:$AV$10000) -> #DIV/0! | E59: =IFERROR(D59/4,0) -> 0 | G59: =+E59*100 -> 0
C60: 2. Elaborar términos de referencia acorde al diseño de evaluación requerida. | D60: =AVERAGE(D61:D69) -> #DIV/0! | E60: =IFERROR(D60/4,0) -> 0 | G60: =+E60*100 -> 0
C61: 2.1 Determinación del objeto de evaluación (política, plan, programa o proyecto) | D61: =AVERAGE(BD!$AW$2:$AW$10000) -> #DIV/0! | E61: =IFERROR(D61/4,0) -> 0 | G61: =+E61*100 -> 0
C62: 2.2 Formulación de objetivos de la evaluación | D62: =AVERAGE(BD!$AX$2:$AX$10000) -> #DIV/0! | E62: =IFERROR(D62/4,0) -> 0 | G62: =+E62*100 -> 0
C63: 2.3 Planteamiento del alcance y preguntas de evaluación | D63: =AVERAGE(BD!$AY$2:$AY$10000) -> #DIV/0! | E63: =IFERROR(D63/4,0) -> 0 | G63: =+E63*100 -> 0
C64: 2.4 Determinación de actividades y productos | D64: =AVERAGE(BD!$AZ$2:$AZ$10000) -> #DIV/0! | E64: =IFERROR(D64/4,0) -> 0 | G64: =+E64*100 -> 0
C65: 2.5 Determinación de plazos y presupuesto | D65: =AVERAGE(BD!$BA$2:$BA$10000) -> #DIV/0! | E65: =IFERROR(D65/4,0) -> 0 | G65: =+E65*100 -> 0
C66: 2.6 Determinación del perfil del equipo evaluador | D66: =AVERAGE(BD!$BB$2:$BB$10000) -> #DIV/0! | E66: =IFERROR(D66/4,0) -> 0 | G66: =+E66*100 -> 0
C67: 2.7 Aplicación de criterios de elección y evaluación de postores | D67: =AVERAGE(BD!$BC$2:$BC$10000) -> #DIV/0! | E67: =IFERROR(D67/4,0) -> 0 | G67: =+E67*100 -> 0
C68: 2.8 Diseño de la supervisión y seguimiento de la evaluación. | D68: =AVERAGE(BD!$BD$2:$BD$10000) -> #DIV/0! | E68: =IFERROR(D68/4,0) -> 0 | G68: =+E68*100 -> 0
C69: 2.9 Establecimiento de normas éticas | D69: =AVERAGE(BD!$BE$2:$BE$10000) -> #DIV/0! | E69: =IFERROR(D69/4,0) -> 0 | G69: =+E69*100 -> 0
C70: 3.Elaborar el diseño de las evaluaciones acorde a los objetivos de la evaluación | D70: =AVERAGE(D71:D88) -> #DIV/0! | E70: =IFERROR(D70/4,0) -> 0 | G70: =+E70*100 -> 0
C71: 3.1 Análisis de la evaluabilidad de un plan, programa, proyecto o política. | D71: =AVERAGE(BD!$BF$2:$BF$10000) -> #DIV/0! | E71: =IFERROR(D71/4,0) -> 0 | G71: =+E71*100 -> 0
C72: 3.2 Aplicación de enfoques de evaluación. | D72: =AVERAGE(BD!$BG$2:$BG$10000) -> #DIV/0! | E72: =IFERROR(D72/4,0) -> 0 | G72: =+E72*100 -> 0
C73: 3.3 Identificación de tipología de evaluaciones. | D73: =AVERAGE(BD!$BH$2:$BH$10000) -> #DIV/0! | E73: =IFERROR(D73/4,0) -> 0 | G73: =+E73*100 -> 0
C74: 3.4 Análisis del contexto | D74: =AVERAGE(BD!$BI$2:$BI$10000) -> #DIV/0! | E74: =IFERROR(D74/4,0) -> 0 | G74: =+E74*100 -> 0
C75: 3.5 Identificación de partes interesadas y consulta de sus necesidades de información. | D75: =AVERAGE(BD!$BJ$2:$BJ$10000) -> #DIV/0! | E75: =IFERROR(D75/4,0) -> 0 | G75: =+E75*100 -> 0
C76: 3.6 Determinación del propósito de la evaluación. | D76: =AVERAGE(BD!$BK$2:$BK$10000) -> #DIV/0! | E76: =IFERROR(D76/4,0) -> 0 | G76: =+E76*100 -> 0
C77: 3.7 Determinación del objetivo de la evaluación. | D77: =AVERAGE(BD!$BL$2:$BL$10000) -> #DIV/0! | E77: =IFERROR(D77/4,0) -> 0 | G77: =+E77*100 -> 0
C78: 3.8 Validación, análisis y ajustes de la teoría de cambio | D78: =AVERAGE(BD!$BM$2:$BM$10000) -> #DIV/0! | E78: =IFERROR(D78/4,0) -> 0 | G78: =+E78*100 -> 0
C79: 3.9 Definición de las preguntas de evaluación. | D79: =AVERAGE(BD!$BN$2:$BN$10000) -> #DIV/0! | E79: =IFERROR(D79/4,0) -> 0 | G79: =+E79*100 -> 0
C80: 3.10 Determinación de métodos cualitativos y cuantitativos, técnicas e instrumentos de recolección de datos. | D80: =AVERAGE(BD!$BO$2:$BO$10000) -> #DIV/0! | E80: =IFERROR(D80/4,0) -> 0 | G80: =+E80*100 -> 0
C81: 3.11 Determinación y definición de indicadores. | D81: =AVERAGE(BD!$BP$2:$BP$10000) -> #DIV/0! | E81: =IFERROR(D81/4,0) -> 0 | G81: =+E81*100 -> 0
C82: 3.12 Identificación de medios de verificación y fuentes de información. | D82: =AVERAGE(BD!$BQ$2:$BQ$10000) -> #DIV/0! | E82: =IFERROR(D82/4,0) -> 0 | G82: =+E82*100 -> 0
C83: 3.13 Estimación del tamaño de los efectos. | D83: =AVERAGE(BD!$BR$2:$BR$10000) -> #DIV/0! | E83: =IFERROR(D83/4,0) -> 0 | G83: =+E83*100 -> 0
C84: 3.14 Identificación de la población objetivo | D84: =AVERAGE(BD!$BS$2:$BS$10000) -> #DIV/0! | E84: =IFERROR(D84/4,0) -> 0 | G84: =+E84*100 -> 0
C85: 3.15 Diseño de instrumentos de recolección de datos. | D85: =AVERAGE(BD!$BT$2:$BT$10000) -> #DIV/0! | E85: =IFERROR(D85/4,0) -> 0 | G85: =+E85*100 -> 0
C86: 3.16 Determinación de la muestra. | D86: =AVERAGE(BD!$BU$2:$BU$10000) -> #DIV/0! | E86: =IFERROR(D86/4,0) -> 0 | G86: =+E86*100 -> 0
C87: 3.17 Elaboración del plan de recolección de datos. | D87: =AVERAGE(BD!$BV$2:$BV$10000) -> #DIV/0! | E87: =IFERROR(D87/4,0) -> 0 | G87: =+E87*100 -> 0
C88: 3.18 Elaboración de presupuesto y cronograma. | D88: =AVERAGE(BD!$BW$2:$BW$10000) -> #DIV/0! | E88: =IFERROR(D88/4,0) -> 0 | G88: =+E88*100 -> 0
C89: 4. Elaborar instrumentos de recojo de datos válidos y confiables según el diseño de la evaluación. | D89: =AVERAGE(D90:D93) -> #DIV/0! | E89: =IFERROR(D89/4,0) -> 0 | G89: =+E89*100 -> 0
C90: 4.1 Determinación de variables o dimensiones a medir. Desagregación. | D90: =AVERAGE(BD!$BX$2:$BX$10000) -> #DIV/0! | E90: =IFERROR(D90/4,0) -> 0 | G90: =+E90*100 -> 0
C91: 4.2 Realización de prueba piloto. | D91: =AVERAGE(BD!$BY$2:$BY$10000) -> #DIV/0! | E91: =IFERROR(D91/4,0) -> 0 | G91: =+E91*100 -> 0
C92: 4.3 Determinación de la confiabilidad de instrumentos. | D92: =AVERAGE(BD!$BZ$2:$BZ$10000) -> #DIV/0! | E92: =IFERROR(D92/4,0) -> 0 | G92: =+E92*100 -> 0
C93: 4.4 Validación de instrumentos. | D93: =AVERAGE(BD!$CA$2:$CA$10000) -> #DIV/0! | E93: =IFERROR(D93/4,0) -> 0 | G93: =+E93*100 -> 0
C94: 5. Recolectar datos aplicando técnicas apropiadas con estándares de control y calidad. | D94: =AVERAGE(D95:D98) -> #DIV/0! | E94: =IFERROR(D94/4,0) -> 0 | G94: =+E94*100 -> 0
C95: 5.1 Diseño, ejecución y evaluación de actividades de capacitación del equipo de recolección de datos | D95: =AVERAGE(BD!$CB$2:$CB$10000) -> #DIV/0! | E95: =IFERROR(D95/4,0) -> 0 | G95: =+E95*100 -> 0
C96: 5.2 Aplicación de técnicas e instrumentos de recolección de datos | D96: =AVERAGE(BD!$CC$2:$CC$10000) -> #DIV/0! | E96: =IFERROR(D96/4,0) -> 0 | G96: =+E96*100 -> 0
C97: 5.3 Elaboración de criterios de control de calidad en el momento de la obtención de los datos. | D97: =AVERAGE(BD!$CD$2:$CD$10000) -> #DIV/0! | E97: =IFERROR(D97/4,0) -> 0 | G97: =+E97*100 -> 0
C98: 5.4 Formulación de criterios para la supervisión de la calidad de los datos. | D98: =AVERAGE(BD!$CE$2:$CE$10000) -> #DIV/0! | E98: =IFERROR(D98/4,0) -> 0 | G98: =+E98*100 -> 0
C99: 6. Procesar los datos verificando su calidad. | D99: =AVERAGE(D100:D104) -> #DIV/0! | E99: =IFERROR(D99/4,0) -> 0 | G99: =+E99*100 -> 0
C100: 6.1. Diseño de bases de datos | D100: =AVERAGE(BD!$CF$2:$CF$10000) -> #DIV/0! | E100: =IFERROR(D100/4,0) -> 0 | G100: =+E100*100 -> 0
C101: 6.2 Codificación de datos cuantitativos y cualitativos | D101: =AVERAGE(BD!$CG$2:$CG$10000) -> #DIV/0! | E101: =IFERROR(D101/4,0) -> 0 | G101: =+E101*100 -> 0
...

Sheet Gráficos
B2: Nivel de desarrollo según áreas de competencia
C3: Seguimiento | I3: Evaluación | O3: Gestión del conocimiento
C4: =Resultados_1!C4 -> 0 | I4: =Resultados_1!C5 -> 0 | O4: =+Resultados_1!C6 -> 0
B19: C1 | C19: =Resultados_1!C12 -> 0 | D19: C5 | E19: =Resultados_1!C16 -> 0 | H19: C1 | I19: =Resultados_1!C22 -> 0 | J19: C8 | K19: =Resultados_1!C29 -> 0
B20: C2 | C20: =Resultados_1!C13 -> 0 | D20: C6 | E20: =Resultados_1!C17 -> 0 | H20: C2 | I20: =Resultados_1!C23 -> 0 | J20: C9 | K20: =Resultados_1!C30 -> 0
B21: C3 | C21: =Resultados_1!C14 -> 0 | D21: C7 | E21: =Resultados_1!C18 -> 0 | H21: C3 | I21: =Resultados_1!C24 -> 0 | J21: C10 | K21: =Resultados_1!C31 -> 0
B22: C4 | C22: =Resultados_1!C15 -> 0 | H22: C4 | I22: =Resultados_1!C25 -> 0 | J22: C11 | K22: =Resultados_1!C32 -> 0
H23: C5 | I23: =Resultados_1!C26 -> 0 | J23: C12 | K23: =Resultados_1!C33 -> 0
H24: C6 | I24: =Resultados_1!C27 -> 0 | J24: C13 | K24: =Resultados_1!C34 -> 0
H25: C7 | I25: =Resultados_1!C28 -> 0 | J25: C14 | K25: =Resultados_1!C35 -> 0
B40: C1 | C40: =Resultados_1!C39 -> 0 | D40: C3 | E40: =Resultados_1!C41 -> 0 | H40: C1 | I40: =Resultados_1!C47 -> 0 | J40: C5 | K40: =Resultados_1!C51 -> 0
B41: C2 | C41: =Resultados_1!C40 -> 0 | D41: C4 | E41: =Resultados_1!C42 -> 0 | H41: C2 | I41: =Resultados_1!C48 -> 0 | J41: C6 | K41: =Resultados_1!C52 -> 0
H42: C3 | I42: =Resultados_1!C49 -> 0 | J42: C7 | K42: =Resultados_1!C53 -> 0
H43: C4 | I43: =Resultados_1!C50 -> 0 | J43: C8 | K43: =Resultados_1!C54 -> 0

Sheet BD
A1: A | B1: B | C1: C | D1: 1 | E1: 2 | F1: 3 | G1: 4 | H1: 5 | I1: 6 | J1: 7 | K1: 8 | L1: 9 | M1: 10 | N1: 11 | O1: 12 | P1: 13 | Q1: 14 | R1: 15 | S1: 16 | T1: 17 | U1: 18 | V1: 19 | W1: 20 | X1: 21 | Y1: 22 | Z1: 23 | AA1: 24 | AB1: 25 | AC1: 26 | AD1: 27 | AE1: 28 | AF1: 29 | AG1: 30 | AH1: 31 | AI1: 32 | AJ1: 33 | AK1: 34 | AL1: 35 | AM1: 36 | AN1: 37 | AO1: 38 | AP1: 39 | AQ1: 40 | AR1: 41 | AS1: 42 | AT1: 43 | AU1: 44 | AV1: 45 | AW1: 46 | AX1: 47 | AY1: 48 | AZ1: 49 | BA1: 50 | BB1: 51 | BC1: 52 | BD1: 53 | BE1: 54 | BF1: 55 | BG1: 56 | BH1: 57 | BI1: 58 | BJ1: 59 | BK1: 60 | BL1: 61 | BM1: 62 | BN1: 63 | BO1: 64 | BP1: 65 | BQ1: 66 | BR1: 67 | BS1: 68 | BT1: 69 | BU1: 70 | BV1: 71 | BW1: 72 | BX1: 73 | BY1: 74 | BZ1: 75 | CA1: 76 | CB1: 77 | CC1: 78 | CD1: 79 | CE1: 80 | CF1: 81 | CG1: 82 | CH1: 83 | CI1: 84 | CJ1: 85 | CK1: 86 | CL1: 87 | CM1: 88 | CN1: 89 | CO1: 90 | CP1: 91 | CQ1: 92 | CR1: 93 | CS1: 94 | CT1: 95 | CU1: 96 | CV1: 97 | CW1: 98 | CX1: 99 | CY1: 100 | CZ1: 101 | DA1: 102 | DB1: 103 | DC1: 104 | DD1: 105 | DE1: 106 | DF1: 107 | DG1: 108 | DH1: 109 | DI1: 110 | DJ1: 111 | DK1: 112 | DL1: 113 | DM1: 114 | DN1: 115 | DO1: 116 | DP1: 117 | DQ1: 118 | DR1: 119 | DS1: 120 | DT1: 121 | DU1: 122 | DV1: 123 | DW1: 124 | DX1: 125 | DY1: 126 | DZ1: 127 | EA1: 128 | EB1: 129 | EC1: 130 | ED1: 131 | EE1: 132 | EF1: 133 | EG1: 134 | EH1: 135 | EI1: 136 | EJ1: 137 | EK1: 138 | EL1: 139 | EM1: 140 | EN1: 141 | EO1: 142
A2: =IF(Autodiagnostico!B4=0," ",Autodiagnostico!B4) | B2: =IF(Autodiagnostico!B6=0," ",Autodiagnostico!B6) | C2: =IF(Autodiagnostico!C6=0," ",Autodiagnostico!C6) | D2: =IF(Autodiagnostico!C10=0," ",Autodiagnostico!C10) | E2: =IF(Autodiagnostico!C11=0," ",Autodiagnostico!C11) | F2: =IF(Autodiagnostico!C12=0," ",Autodiagnostico!C12) | G2: =IF(Autodiagnostico!C13=0," ",Autodiagnostico!C13) | H2: =IF(Autodiagnostico!C14=0," ",Autodiagnostico!C14) | I2: =IF(Autodiagnostico!C15=0," ",Autodiagnostico!C15) | J2: =IF(Autodiagnostico!C16=0," ",Autodiagnostico!C16) | K2: =IF(Autodiagnostico!C17=0," ",Autodiagnostico!C17) | L2: =IF(Autodiagnostico!C18=0," ",Autodiagnostico!C18) | M2: =IF(Autodiagnostico!C19=0," ",Autodiagnostico!C19) | N2: =IF(Autodiagnostico!C20=0," ",Autodiagnostico!C20) | O2: =IF(Autodiagnostico!C21=0," ",Autodiagnostico!C21) | P2: =IF(Autodiagnostico!C22=0," ",Autodiagnostico!C22) | Q2: =IF(Autodiagnostico!C23=0," ",Autodiagnostico!C23) | R2: =IF(Autodiagnostico!C24=0," ",Autodiagnostico!C24) | S2: =IF(Autodiagnostico!C26=0," ",Autodiagnostico!C26) | T2: =IF(Autodiagnostico!C27=0," ",Autodiagnostico!C27) | U2: =IF(Autodiagnostico!C28=0," ",Autodiagnostico!C28) | V2: =IF(Autodiagnostico!C30=0," ",Autodiagnostico!C30) | W2: =IF(Autodiagnostico!C31=0," ",Autodiagnostico!C31) | X2: =IF(Autodiagnostico!C32=0," ",Autodiagnostico!C32) | Y2: =IF(Autodiagnostico!C33=0," ",Autodiagnostico!C33) | Z2: =IF(Autodiagnostico!C34=0," ",Autodiagnostico!C34) | AA2: =IF(Autodiagnostico!C35=0," ",Autodiagnostico!C35) | AB2: =IF(Autodiagnostico!C37=0," ",Autodiagnostico!C37) | AC2: =IF(Autodiagnostico!C38=0," ",Autodiagnostico!C38) | AD2: =IF(Autodiagnostico!C39=0," ",Autodiagnostico!C39) | AE2: =IF(Autodiagnostico!C40=0," ",Autodiagnostico!C40) | AF2: =IF(Autodiagnostico!C42=0," ",Autodiagnostico!C42) | AG2: =IF(Autodiagnostico!C43=0," ",Autodiagnostico!C43) | AH2: =IF(Autodiagnostico!C44=0," ",Autodiagnostico!C44) | AI2: =IF(Autodiagnostico!C46=0," ",Autodiagnostico!C46) | AJ2: =IF(Autodiagnostico!C47=0," ",Autodiagnostico!C47) | AK2: =IF(Autodiagnostico!C48=0," ",Autodiagnostico!C48) | AL2: =IF(Autodiagnostico!C50=0," ",Autodiagnostico!C50) | AM2: =IF(Autodiagnostico!C51=0," ",Autodiagnostico!C51) | AN2: =IF(Autodiagnostico!C52=0," ",Autodiagnostico!C52) | AO2: =IF(Autodiagnostico!C53=0," ",Autodiagnostico!C53) | AP2: =IF(Autodiagnostico!C57=0," ",Autodiagnostico!C57) | AQ2: =IF(Autodiagnostico!C58=0," ",Autodiagnostico!C58) | AR2: =IF(Autodiagnostico!C59=0," ",Autodiagnostico!C59) | AS2: =IF(Autodiagnostico!C60=0," ",Autodiagnostico!C60) | AT2: =IF(Autodiagnostico!C61=0," ",Autodiagnostico!C61) | AU2: =IF(Autodiagnostico!C62=0," ",Autodiagnostico!C62) | AV2: =IF(Autodiagnostico!C63=0," ",Autodiagnostico!C63) | AW2: =IF(Autodiagnostico!C65=0," ",Autodiagnostico!C65) | AX2: =IF(Autodiagnostico!C66=0," ",Autodiagnostico!C66) | AY2: =IF(Autodiagnostico!C67=0," ",Autodiagnostico!C67) | AZ2: =IF(Autodiagnostico!C68=0," ",Autodiagnostico!C68) | BA2: =IF(Autodiagnostico!C69=0," ",Autodiagnostico!C69) | BB2: =IF(Autodiagnostico!C70=0," ",Autodiagnostico!C70) | BC2: =IF(Autodiagnostico!C71=0," ",Autodiagnostico!C71) | BD2: =IF(Autodiagnostico!C72=0," ",Autodiagnostico!C72) | BE2: =IF(Autodiagnostico!C73=0," ",Autodiagnostico!C73) | BF2: =IF(Autodiagnostico!C75=0," ",Autodiagnostico!C75) | BG2: =IF(Autodiagnostico!C76=0," ",Autodiagnostico!C76) | BH2: =IF(Autodiagnostico!C77=0," ",Autodiagnostico!C77) | BI2: =IF(Autodiagnostico!C78=0," ",Autodiagnostico!C78) | BJ2: =IF(Autodiagnostico!C79=0," ",Autodiagnostico!C79) | BK2: =IF(Autodiagnostico!C80=0," ",Autodiagnostico!C80) | BL2: =IF(Autodiagnostico!C81=0," ",Autodiagnostico!C81) | BM2: =IF(Autodiagnostico!C82=0," ",Autodiagnostico!C82) | BN2: =IF(Autodiagnostico!C83=0," ",Autodiagnostico!C83) | BO2: =IF(Autodiagnostico!C84=0," ",Autodiagnostico!C84) | BP2: =IF(Autodiagnostico!C85=0," ",Autodiagnostico!C85) | BQ2: =IF(Autodiagnostico!C86=0," ",Autodiagnostico!C86) | BR2: =IF(Autodiagnostico!C87=0," ",Autodiagnostico!C87) | BS2: =IF(Autodiagnostico!C88=0," ",Autodiagnostico!C88) | BT2: =IF(Autodiagnostico!C89=0," ",Autodiagnostico!C89) | BU2: =IF(Autodiagnostico!C90=0," ",Autodiagnostico!C90) | BV2: =IF(Autodiagnostico!C91=0," ",Autodiagnostico!C91) | BW2: =IF(Autodiagnostico!C92=0," ",Autodiagnostico!C92) | BX2: =IF(Autodiagnostico!C94=0," ",Autodiagnostico!C94) | BY2: =IF(Autodiagnostico!C95=0," ",Autodiagnostico!C95) | BZ2: =IF(Autodiagnostico!C96=0," ",Autodiagnostico!C96) | CA2: =IF(Autodiagnostico!C97=0," ",Autodiagnostico!C97) | CB2: =IF(Autodiagnostico!C99=0," ",Autodiagnostico!C99) | CC2: =IF(Autodiagnostico!C100=0," ",Autodiagnostico!C100) | CD2: =IF(Autodiagnostico!C101=0," ",Autodiagnostico!C101) | CE2: =IF(Autodiagnostico!C102=0," ",Autodiagnostico!C102) | CF2: =IF(Autodiagnostico!C104=0," ",Autodiagnostico!C104) | CG2: =IF(Autodiagnostico!C105=0," ",Autodiagnostico!C105) | CH2: =IF(Autodiagnostico!C106=0," ",Autodiagnostico!C106) | CI2: =IF(Autodiagnostico!C107=0," ",Autodiagnostico!C107) | CJ2: =IF(Autodiagnostico!C108=0," ",Autodiagnostico!C108) | CK2: =IF(Autodiagnostico!C110=0," ",Autodiagnostico!C110) | CL2: =IF(Autodiagnostico!C111=0," ",Autodiagnostico!C111) | CM2: =IF(Autodiagnostico!C112=0," ",Autodiagnostico!C112) | CN2: =IF(Autodiagnostico!C114=0," ",Autodiagnostico!C114) | CO2: =IF(Autodiagnostico!C115=0," ",Autodiagnostico!C115) | CP2: =IF(Autodiagnostico!C116=0," ",Autodiagnostico!C116) | CQ2: =IF(Autodiagnostico!C117=0," ",Autodiagnostico!C117) | CR2: =IF(Autodiagnostico!C118=0," ",Autodiagnostico!C118) | CS2: =IF(Autodiagnostico!C119=0," ",Autodiagnostico!C119) | CT2: =IF(Autodiagnostico!C120=0," ",Autodiagnostico!C120) | CU2: =IF(Autodiagnostico!C122=0," ",Autodiagnostico!C122) | CV2: =IF(Autodiagnostico!C123=0," ",Autodiagnostico!C123) | CW2: =IF(Autodiagnostico!C124=0," ",Autodiagnostico!C124) | CX2: =IF(Autodiagnostico!C126=0," ",Autodiagnostico!C126) | CY2: =IF(Autodiagnostico!C127=0," ",Autodiagnostico!C127) | CZ2: =IF(Autodiagnostico!C128=0," ",Autodiagnostico!C128) | DA2: =IF(Autodiagnostico!C130=0," ",Autodiagnostico!C130) | DB2: =IF(Autodiagnostico!C131=0," ",Autodiagnostico!C131) | DC2: =IF(Autodiagnostico!C133=0," ",Autodiagnostico!C133) | DD2: =IF(Autodiagnostico!C134=0," ",Autodiagnostico!C134) | DE2: =IF(Autodiagnostico!C136=0," ",Autodiagnostico!C136) | DF2: =IF(Autodiagnostico!C137=0," ",Autodiagnostico!C137) | DG2: =IF(Autodiagnostico!C138=0," ",Autodiagnostico!C138) | DH2: =IF(Autodiagnostico!C139=0," ",Autodiagnostico!C139) | DI2: =IF(Autodiagnostico!C140=0," ",Autodiagnostico!C140) | DJ2: =IF(Autodiagnostico!C141=0," ",Autodiagnostico!C141) | DK2: =IF(Autodiagnostico!C143=0," ",Autodiagnostico!C143) | DL2: =IF(Autodiagnostico!C144=0," ",Autodiagnostico!C144) | DM2: =IF(Autodiagnostico!C145=0," ",Autodiagnostico!C145) | DN2: =IF(Autodiagnostico!C149=0," ",Autodiagnostico!C149) | DO2: =IF(Autodiagnostico!C150=0," ",Autodiagnostico!C150) | DP2: =IF(Autodiagnostico!C151=0," ",Autodiagnostico!C151) | DQ2: =IF(Autodiagnostico!C152=0," ",Autodiagnostico!C152) | DR2: =IF(Autodiagnostico!C153=0," ",Autodiagnostico!C153) | DS2: =IF(Autodiagnostico!C154=0," ",Autodiagnostico!C154) | DT2: =IF(Autodiagnostico!C156=0," ",Autodiagnostico!C156) | DU2: =IF(Autodiagnostico!C157=0," ",Autodiagnostico!C157) | DV2: =IF(Autodiagnostico!C158=0," ",Autodiagnostico!C158) | DW2: =IF(Autodiagnostico!C159=0," ",Autodiagnostico!C159) | DX2: =IF(Autodiagnostico!C160=0," ",Autodiagnostico!C160) | DY2: =IF(Autodiagnostico!C162=0," ",Autodiagnostico!C162) | DZ2: =IF(Autodiagnostico!C163=0," ",Autodiagnostico!C163) | EA2: =IF(Autodiagnostico!C164=0," ",Autodiagnostico!C164) | EB2: =IF(Autodiagnostico!C165=0," ",Autodiagnostico!C165) | EC2: =IF(Autodiagnostico!C166=0," ",Autodiagnostico!C166) | ED2: =IF(Autodiagnostico!C167=0," ",Autodiagnostico!C167) | EE2: =IF(Autodiagnostico!C168=0," ",Autodiagnostico!C168) | EF2: =IF(Autodiagnostico!C170=0," ",Autodiagnostico!C170) | EG2: =IF(Autodiagnostico!C171=0," ",Autodiagnostico!C171) | EH2: =IF(Autodiagnostico!C174=0," ",Autodiagnostico!C174) | EI2: =IF(Autodiagnostico!C175=0," ",Autodiagnostico!C175) | EJ2: =IF(Autodiagnostico!C176=0," ",Autodiagnostico!C176) | EK2: =IF(Autodiagnostico!C177=0," ",Autodiagnostico!C177) | EL2: =IF(Autodiagnostico!C178=0," ",Autodiagnostico!C178) | EM2: =IF(Autodiagnostico!C179=0," ",Autodiagnostico!C179) | EN2: =IF(Autodiagnostico!C180=0," ",Autodiagnostico!C180) | EO2: =IF(Autodiagnostico!C181=0," ",Autodiagnostico!C181)
